BEGIN:VCALENDAR
VERSION:2.0
PRODID:-//eventon.com NONSGML v1.0//EN
CALSCALE:GREGORIAN
METHOD:PUBLISH
BEGIN:VEVENT
UID:69e73631cf835
DTSTAMP:20260421T083249Z
DTSTART:20210417T200000Z
DTEND:20210417T213000Z
LOCATION:Abbeville Opera House 1oo Court Square
SUMMARY:Rockin’ The Night Away at the Opera House
DESCRIPTION:&#8220;Rockin’ The Night Away&#8221; is a musical variety sho
 w that will take you musically through time.  Featuring an All Star Cast t
 hat will entertain you in a two hour extravaganza with hits from the 50’s
 \,  60’s\,  Motown\,  Country\,  Elvis\,  Gospel and so much more. Since 
 2015 &#8220;Rockin’ The Night Away&#8221;[..]\nhttps://visitold96sc.com/e
 vents/rockin-the-night-away-at-the-opera-house/
URL:https://visitold96sc.com/events/rockin-the-night-away-at-the-opera-house/
END:VEVENT
END:VCALENDAR