BEGIN:VCALENDAR
VERSION:2.0
PRODID:-//eventon.com NONSGML v1.0//EN
CALSCALE:GREGORIAN
METHOD:PUBLISH
BEGIN:VEVENT
UID:69eb306c113d8
DTSTAMP:20260424T085716Z
DTSTART:20211003T000000Z
DTEND:20211003T020000Z
LOCATION:Abbeville Opera House 1oo Court Square
SUMMARY:The Swingin' Medallions
DESCRIPTION:Based out of Greenwood\,  South Carolina\,  the Medallions&#821
 7; musical roots came from listening to early rhythm and blues acts. After 
 a few years of touring colleges from the Carolinas to the Louisiana Bayou\,
   the group recorded &#8220;Double Shot (of My Baby&#8217;s Love)&#8221; an
 d the song became a million seller in[..]\nhttps://visitold96sc.com/events/
 the-swingin-medallions/
URL:https://visitold96sc.com/events/the-swingin-medallions/
END:VEVENT
END:VCALENDAR