BEGIN:VCALENDAR
VERSION:2.0
PRODID:-//eventon.com NONSGML v1.0//EN
CALSCALE:GREGORIAN
METHOD:PUBLISH
BEGIN:VEVENT
UID:69e739803084f
DTSTAMP:20260421T084656Z
DTSTART:20211127T000000Z
DTEND:20211127T010000Z
LOCATION:Edgefield\,  SC
SUMMARY:Edgefield Annual Tree Lighting
DESCRIPTION:The Annual &#8220;Tree Lighting&#8221; celebration will be held
  on November 26\,  2021\,  from 7:00 p. m. to 8:00 p. m.\,  on the Edgefiel
 d Town Square. There will be music\,  cookies\,  hot cocoa\,  crafts\,  and
  snow! Make plans to attend!!\nhttps://visitold96sc.com/events/edgefield-an
 nual-tree-lighting/
URL:https://visitold96sc.com/events/edgefield-annual-tree-lighting/
END:VEVENT
END:VCALENDAR