BEGIN:VCALENDAR
VERSION:2.0
PRODID:-//eventon.com NONSGML v1.0//EN
CALSCALE:GREGORIAN
METHOD:PUBLISH
BEGIN:VEVENT
UID:69ec3340878b5
DTSTAMP:20260425T032136Z
DTSTART:20221126T043000Z
DTEND:20221218T030000Z
LOCATION:
SUMMARY:Christmas on the Square in Laurens\,  SC
DESCRIPTION:Christmas is one of the most magical times of the year in Downt
 own Laurens. Kick off the season with Black Friday shopping specials and th
 e opening of the Laurens Christmas Market (presented by the CIty of Laurens
 ). Then\,  celebrate Small Business Saturday followed by Christmas on the S
 quare and the[..]\nhttps://visitold96sc.com/events/christmas-on-the-square-
 in-laurens-sc/
URL:https://visitold96sc.com/events/christmas-on-the-square-in-laurens-sc/
END:VEVENT
END:VCALENDAR